BEGIN:VCALENDAR
VERSION:2.0
PRODID:DPCALENDAR
CALSCALE:GREGORIAN
BEGIN:VTIMEZONE
TZID:America/Chicago
X-MICROSOFT-CDO-TZID:11
BEGIN:STANDARD
DTSTART:20251102T070000
TZOFFSETFROM:-0500
TZOFFSETTO:-0600
TZNAME:CST
END:STANDARD
BEGIN:STANDARD
DTSTART:20261101T070000
TZOFFSETFROM:-0500
TZOFFSETTO:-0600
TZNAME:CST
END:STANDARD
BEGIN:DAYLIGHT
DTSTART:20260308T080000
TZOFFSETFROM:-0600
TZOFFSETTO:-0500
TZNAME:CDT
END:DAYLIGHT
END:VTIMEZONE
X-WR-TIMEZONE:America/Chicago
BEGIN:VEVENT
DTSTART;TZID=America/Chicago:20210513T054500
DTEND;TZID=America/Chicago:20210513T064500
RRULE:FREQ=WEEKLY;BYDAY=MO,TU,WE,TH,FR;INTERVAL=1;UNTIL=20221231T235900Z
EXDATE:20211224T114500Z
UID:A8F1880B-DD7D-4447-8F29-7F9444E10067
SUMMARY:CrossFit
CREATED:20210513T153500Z
DTSTAMP:20210513T153500Z
LOCATION:US Highway 31 8267\, 35040 Calera\, Shelby\, United States
GEO:33.10869658;-86.75110556
LAST-MODIFIED:20211220T010134Z
SEQUENCE:19041994
URL:https://www.caleracrossfit.com/index.php/dpcal/5-45am-crossfit-2
X-ACCESS:1
X-HITS:103
X-COLOR:888bde
X-SHOW-END-TIME:0
END:VEVENT
BEGIN:VEVENT
DTSTART;TZID=America/Chicago:20210513T080000
DTEND;TZID=America/Chicago:20210513T090000
RRULE:FREQ=WEEKLY;BYDAY=MO,TU,WE,TH,FR;INTERVAL=1;UNTIL=20251231T235900Z
UID:7C6B6477-04F8-4E2F-AA8A-AE72D607BB0F
SUMMARY:CrossFit
CREATED:20210513T153605Z
DTSTAMP:20210513T153605Z
LOCATION:US Highway 31 8267\, 35040 Calera\, Shelby\, United States
GEO:33.10869658;-86.75110556
LAST-MODIFIED:20230104T223606Z
SEQUENCE:51951601
URL:https://www.caleracrossfit.com/index.php/dpcal/8am-crossfit
X-ACCESS:1
X-HITS:155
X-COLOR:888bde
X-SHOW-END-TIME:0
END:VEVENT
BEGIN:VEVENT
DTSTART;TZID=America/Chicago:20210513T093000
DTEND;TZID=America/Chicago:20210513T103000
RRULE:FREQ=WEEKLY;BYDAY=SA,MO,TU,WE,TH,FR;INTERVAL=1;UNTIL=20251231T235900Z
UID:6C25AC67-BACE-4812-9562-6A825598CF27
SUMMARY:CrossFit
CREATED:20210513T154218Z
DTSTAMP:20210513T154218Z
LOCATION:US Highway 31 8267\, 35040 Calera\, Shelby\, United States
GEO:33.10869658;-86.75110556
LAST-MODIFIED:20230104T223638Z
SEQUENCE:51951260
URL:https://www.caleracrossfit.com/index.php/dpcal/9-30am-crossfit
X-ACCESS:1
X-HITS:209
X-COLOR:888bde
X-SHOW-END-TIME:0
END:VEVENT
BEGIN:VEVENT
DTSTART;TZID=America/Chicago:20210513T154500
DTEND;TZID=America/Chicago:20210513T164500
RRULE:FREQ=WEEKLY;BYDAY=MO,TU,WE,TH,FR;INTERVAL=1;UNTIL=20251231T235900Z
UID:E96BCE44-A611-4A81-AE1B-2B3A6D07A690
SUMMARY:CrossFit
CREATED:20210513T160208Z
DTSTAMP:20210513T160208Z
LOCATION:US Highway 31 8267\, 35040 Calera\, Shelby\, United States
GEO:33.10869658;-86.75110556
LAST-MODIFIED:20230104T223724Z
SEQUENCE:51950116
URL:https://www.caleracrossfit.com/index.php/dpcal/3-45-crossfit
X-ACCESS:1
X-HITS:35
X-COLOR:888bde
X-SHOW-END-TIME:0
END:VEVENT
BEGIN:VEVENT
DTSTART;TZID=America/Chicago:20210513T164500
DTEND;TZID=America/Chicago:20210513T174500
RRULE:FREQ=WEEKLY;BYDAY=MO,TU,WE,TH,FR;INTERVAL=1;UNTIL=20251231T235900Z
UID:C1629AD7-B972-40A5-8DFC-978FADC02EFA
SUMMARY:CrossFit
CREATED:20210513T154023Z
DTSTAMP:20210513T154023Z
LOCATION:US Highway 31 8267\, 35040 Calera\, Shelby\, United States
GEO:33.10869658;-86.75110556
LAST-MODIFIED:20230104T223800Z
SEQUENCE:51951457
URL:https://www.caleracrossfit.com/index.php/dpcal/4-45pm-crossfit
X-ACCESS:1
X-HITS:36
X-COLOR:888bde
X-SHOW-END-TIME:0
END:VEVENT
BEGIN:VEVENT
DTSTART;TZID=America/Chicago:20210513T174500
DTEND;TZID=America/Chicago:20210513T184500
RRULE:FREQ=WEEKLY;BYDAY=MO,TU,WE,TH;INTERVAL=1;UNTIL=20251231T235900Z
UID:F3A52265-42E1-455C-9E24-DD20196E4586
SUMMARY:CrossFit
CREATED:20210513T154118Z
DTSTAMP:20210513T154118Z
LOCATION:US Highway 31 8267\, 35040 Calera\, Shelby\, United States
GEO:33.10869658;-86.75110556
LAST-MODIFIED:20230104T223838Z
SEQUENCE:51951440
URL:https://www.caleracrossfit.com/index.php/dpcal/5-45pm-crossfit
X-ACCESS:1
X-HITS:168
X-COLOR:888bde
X-SHOW-END-TIME:0
END:VEVENT
BEGIN:VEVENT
DTSTART;TZID=America/Chicago:20210531T090000
DTEND;TZID=America/Chicago:20210531T103000
UID:2BE26B3E-6A6A-4B4A-BAB2-76351598ADEE
SUMMARY:CrossFit - Murph
CREATED:20210526T021053Z
DTSTAMP:20210526T021053Z
LAST-MODIFIED:20210526T021211Z
SEQUENCE:78
URL:https://www.caleracrossfit.com/index.php/dpcal/crossfit-murph
X-ACCESS:1
X-HITS:226
X-COLOR:888bde
X-SHOW-END-TIME:0
END:VEVENT
BEGIN:VEVENT
DTSTART;TZID=America/Chicago:20220108T080000
DTEND;TZID=America/Chicago:20220108T090000
RRULE:FREQ=WEEKLY;BYDAY=SA;INTERVAL=1;UNTIL=20251230T235900Z
UID:EF0B9130-34B4-4D0A-B3D7-60C8E990E49B
SUMMARY:Olympic Lifting
CREATED:20211220T005945Z
DTSTAMP:20211220T005945Z
LAST-MODIFIED:20240102T024738Z
SEQUENCE:64201673
URL:https://www.caleracrossfit.com/index.php/dpcal/olympic-lifting
X-ACCESS:1
X-HITS:52
X-COLOR:3ad69a
X-SHOW-END-TIME:0
END:VEVENT
BEGIN:VEVENT
DTSTART;TZID=America/Chicago:20230101T053000
DTEND;TZID=America/Chicago:20250101T063000
RRULE:FREQ=WEEKLY;BYDAY=MO,TU,WE,TH,FR;INTERVAL=1;UNTIL=20251231T235900Z
UID:0D0B9F75-D2FB-49E5-AF95-871A8992C97B
SUMMARY:CrossFit
CREATED:20210513T153500Z
DTSTAMP:20210513T153500Z
LOCATION:US Highway 31 8267\, 35040 Calera\, Shelby\, United States
GEO:33.10869658;-86.75110556
LAST-MODIFIED:20230104T223529Z
SEQUENCE:51951629
URL:https://www.caleracrossfit.com/index.php/dpcal/5-45am-crossfit-3
X-ACCESS:1
X-HITS:56
X-COLOR:888bde
X-SHOW-END-TIME:0
END:VEVENT
BEGIN:VEVENT
DTSTART;TZID=America/Chicago:20240103T184500
DTEND;TZID=America/Chicago:20241129T194500
RRULE:FREQ=WEEKLY;BYDAY=WE;INTERVAL=1;UNTIL=20241231T235900Z
UID:84DD5F3A-F925-40CC-A3B0-EFDF45FC485B
SUMMARY:Kids CrossFit
CREATED:20240102T024015Z
DTSTAMP:20240102T024015Z
LAST-MODIFIED:20250915T113542Z
SEQUENCE:53772927
URL:https://www.caleracrossfit.com/index.php/dpcal/kids-crossfit
X-ACCESS:1
X-HITS:16
X-COLOR:b56cc7
X-SHOW-END-TIME:0
END:VEVENT
END:VCALENDAR